BEGIN:VCALENDAR
VERSION:2.0
PRODID:-//ChamberMaster//Event Calendar 2.0//EN
METHOD:PUBLISH
X-PUBLISHED-TTL:P3D
REFRESH-INTERVAL:P3D
CALSCALE:GREGORIAN
BEGIN:VEVENT
DTSTART;VALUE=DATE:20191213
DTEND;VALUE=DATE:20191215
TRANSP:TRANSPARENT
X-MICROSOFT-CDO-ALLDAYEVENT:TRUE
SUMMARY:12th Annual Briscoe Ranch BBQ Cook Off
DESCRIPTION:For more information: 830.591.9040
X-ALT-DESC;FMTTYPE=text/html:For more information: 830.591.9040
LOCATION:Uvalde County Fairplex
UID:e.2154.7499
SEQUENCE:3
DTSTAMP:20260425T160630Z
URL:https://business.uvalde.org/events/details/12th-annual-briscoe-ranch-bbq-cook-off-7499
END:VEVENT

END:VCALENDAR
