BEGIN:VCALENDAR
VERSION:2.0
PRODID:-//ChamberMaster//Event Calendar 2.0//EN
METHOD:PUBLISH
X-PUBLISHED-TTL:P3D
REFRESH-INTERVAL:P3D
CALSCALE:GREGORIAN
BEGIN:VEVENT
DTSTART;VALUE=DATE:20190504
DTEND;VALUE=DATE:20190505
TRANSP:TRANSPARENT
X-MICROSOFT-CDO-ALLDAYEVENT:TRUE
SUMMARY:17th Annual Eugene Slade Memorial Golf Tournament
DESCRIPTION:Breakfast & Lunch Goodie Bag Proceeds to benefit Uvalde High School
X-ALT-DESC;FMTTYPE=text/html:Breakfast &amp\; Lunch Goodie Bag Proceeds to benefit Uvalde High School
LOCATION:The Golf Club of Texas Concan\, Texas
UID:e.2154.7504
SEQUENCE:3
DTSTAMP:20260426T040458Z
URL:https://business.uvalde.org/events/details/17th-annual-eugene-slade-memorial-golf-tournament-7504
END:VEVENT

END:VCALENDAR
