BEGIN:VCALENDAR
VERSION:2.0
PRODID:-//ChamberMaster//Event Calendar 2.0//EN
METHOD:PUBLISH
X-PUBLISHED-TTL:P3D
REFRESH-INTERVAL:P3D
CALSCALE:GREGORIAN
BEGIN:VEVENT
DTSTART;VALUE=DATE:20191026
DTEND;VALUE=DATE:20191027
TRANSP:TRANSPARENT
X-MICROSOFT-CDO-ALLDAYEVENT:TRUE
SUMMARY:1st Annual Knights of Columbus Golf Tournament
DESCRIPTION:4-person Scramble\n\nSign up in Uvalde Pro Shop or For registration / sponsorship opportunities please contact: Jorge Romero (830) 279- 7711
X-ALT-DESC;FMTTYPE=text/html:4-person Scramble<br />\nSign up in Uvalde Pro Shop or For registration / sponsorship opportunities please contact: Jorge Romero (830) 279- 7711
LOCATION:Uvalde Memorial Park Golf Course
UID:e.2154.9212
SEQUENCE:3
DTSTAMP:20260425T191739Z
URL:https://business.uvalde.org/events/details/1st-annual-knights-of-columbus-golf-tournament-9212
END:VEVENT

END:VCALENDAR
