BEGIN:VCALENDAR
VERSION:2.0
PRODID:-//ChamberMaster//Event Calendar 2.0//EN
METHOD:PUBLISH
X-PUBLISHED-TTL:P3D
REFRESH-INTERVAL:P3D
CALSCALE:GREGORIAN
BEGIN:VEVENT
DTSTART:20190718T150000Z
DTEND:20190718T170000Z
X-MICROSOFT-CDO-ALLDAYEVENT:FALSE
SUMMARY:2019 State of the Border
DESCRIPTION:You are cordially invited to join Del Rio Sector Chief Patrol Agent Raul L. Ortiz for a State of the Border address.
X-ALT-DESC;FMTTYPE=text/html:You are cordially invited to join Del Rio Sector Chief Patrol Agent Raul L. Ortiz for a State of the Border address.
LOCATION:1915 Veterans Boulevard\, Del Rio\, Texas 78840
UID:e.2154.8996
SEQUENCE:3
DTSTAMP:20260426T003520Z
URL:https://business.uvalde.org/events/details/2019-state-of-the-border-8996
END:VEVENT

END:VCALENDAR
