BEGIN:VCALENDAR
VERSION:2.0
PRODID:-//ChamberMaster//Event Calendar 2.0//EN
METHOD:PUBLISH
X-PUBLISHED-TTL:P3D
REFRESH-INTERVAL:P3D
CALSCALE:GREGORIAN
BEGIN:VEVENT
DTSTART:20190603T150000Z
DTEND:20190603T160000Z
X-MICROSOFT-CDO-ALLDAYEVENT:FALSE
SUMMARY:2019 Summer Reading Program
DESCRIPTION:The 2019 Summer Reading\n\n\n\n\n\n\n\nProgram will begin at 10am\n\nMonday June 3rd.The theme this year is A Universe of Stories. The program is open to readers of all ages: Pre-School Pals ages 4   6 years\, Ready Readers ages 7   9\, Pre Teen ages 10 -13\, Teen ages 14-18 and adults ages 19 and older. Special guest readers will be taking part in all reading hours and there will be age appropriate activities\n\n\n\n \n\n\n\n\n\n\nIn conjunction with El Progreo Memorial Library's Summer Reading Program from June 3rdthrough June 28th Free Summer Meals for all children ages 18 and under will be offered onsite\n\n\n\n\n\n\n\nMonday   Friday\; serving 11 a.m.   12 noon. (All meals must be consumed on site) This program is sponsored by the Uvalde CISD in partnership with the Texas Department of Agriculture.
X-ALT-DESC;FMTTYPE=text/html:<div class="page" title="Page 1">\n<div class="section">\n<div class="section" style="background-color: rgb(255\, 255\, 255)\;">\n<div class="layoutArea">\n<div class="column">\n<p><span style="font-size: 11pt\; font-family: Helvetica\; color: rgb(29\, 34\, 40)\;">The&nbsp\;</span><span style="font-size: 11pt\; font-family: &quot\;Helvetica\,Bold&quot\;\; color: rgb(29\, 34\, 40)\;">2019 Summer Reading</span></p>\n</div>\n</div>\n</div>\n\n<div class="section">\n<div class="layoutArea">\n<div class="column">\n<p><span style="font-size: 11pt\; font-family: &quot\;Helvetica\,Bold&quot\;\; color: rgb(29\, 34\, 40)\;">Program&nbsp\;</span><span style="font-size: 11pt\; font-family: Helvetica\; color: rgb(29\, 34\, 40)\;">will begin at 10am</span><br />\n<span style="font-size: 11pt\; font-family: Helvetica\; color: rgb(29\, 34\, 40)\; background-color: rgb(255\, 255\, 0)\;">Monday June 3</span><span style="font-size: 7pt\; font-family: Helvetica\; color: rgb(29\, 34\, 40)\; background-color: rgb(255\, 255\, 0)\; vertical-align: 4pt\;">rd.</span><span style="font-size: 11pt\; font-family: Helvetica\; color: rgb(29\, 34\, 40)\;">The theme this year is&nbsp\;</span><span style="font-size: 11pt\; font-family: &quot\;Helvetica\,Italic&quot\;\; color: rgb(29\, 34\, 40)\;">A Universe of Stories</span><span style="font-size: 11pt\; font-family: Helvetica\; color: rgb(29\, 34\, 40)\;">. The program is open to readers of all ages:&nbsp\;</span><span style="font-size: 12pt\; font-family: TimesNewRomanPSMT\;">Pre-School Pals ages 4&nbsp\;</span><span style="font-size: 12pt\; font-family: TimesNewRomanPSMT\;">&ndash\;&nbsp\;</span><span style="font-size: 12pt\; font-family: TimesNewRomanPSMT\;">6 years\, Ready Readers ages 7&nbsp\;</span><span style="font-size: 12pt\; font-family: TimesNewRomanPSMT\;">&ndash\;&nbsp\;</span><span style="font-size: 12pt\; font-family: TimesNewRomanPSMT\;">9\, Pre Teen ages 10 -13\, Teen ages 14-</span><span style="font-size: 11pt\; font-family: Helvetica\; color: rgb(29\, 34\, 40)\;">1</span><span style="font-size: 12pt\; font-family: TimesNewRomanPSMT\;">8 and adults ages 19 and older.&nbsp\;</span><span style="font-size: 11pt\; font-family: Helvetica\; color: rgb(29\, 34\, 40)\;">Special guest readers will be taking part in all reading hours and there will be age appropriate activities</span><br />\n<br />\n&nbsp\;</p>\n\n<div class="page" title="Page 1">\n<div class="section">\n<div class="section" style="background-color: rgb(255\, 255\, 255)\;">\n<div class="layoutArea">\n<div class="column">\n<p><span style="font-size: 12pt\; font-family: TimesNewRomanPSMT\;">In conjunction with&nbsp\;</span><span style="font-size: 12pt\; font-family: TimesNewRomanPSMT\;">El Progreo Memorial Library&rsquo\;s Summer Reading Program from June 3</span><span style="font-size: 8pt\; font-family: TimesNewRomanPSMT\; vertical-align: 5pt\;">rd</span><span style="font-size: 12pt\; font-family: TimesNewRomanPSMT\;">through June 28</span><span style="font-size: 8pt\; font-family: TimesNewRomanPSMT\; vertical-align: 5pt\;">th&nbsp\;</span><span style="font-size: 12pt\; font-family: TimesNewRomanPS\; font-weight: 700\;">Free Summer Meals&nbsp\;</span><span style="font-size: 12pt\; font-family: TimesNewRomanPSMT\;">for all children ages 18 and under will be offered onsite</span></p>\n</div>\n</div>\n</div>\n\n<div class="section" style="background-color: rgb(255\, 255\, 255)\;">\n<div class="layoutArea">\n<div class="column">\n<p><span style="font-size: 12pt\; font-family: TimesNewRomanPSMT\;">Monday&nbsp\;</span><span style="font-size: 12pt\; font-family: TimesNewRomanPSMT\;">&ndash\;&nbsp\;</span><span style="font-size: 12pt\; font-family: TimesNewRomanPSMT\;">Friday\; serving 11 a.m.&nbsp\;</span><span style="font-size: 12pt\; font-family: TimesNewRomanPSMT\;">&ndash\;&nbsp\;</span><span style="font-size: 12pt\; font-family: TimesNewRomanPSMT\;">12 noon. (</span><span style="font-size: 12pt\; font-family: TimesNewRomanPS\; font-style: italic\;">All meals must be consumed on site</span><span style="font-size: 12pt\; font-family: TimesNewRomanPSMT\;">) This program is sponsored by the Uvalde CISD in partnership with the Texas Department of Agriculture.</span></p>\n</div>\n</div>\n</div>\n</div>\n</div>\n</div>\n</div>\n</div>\n</div>\n</div>\n
LOCATION:El Progreso Memorial Library
UID:e.2154.7513
SEQUENCE:3
DTSTAMP:20260426T021039Z
URL:https://business.uvalde.org/events/details/2019-summer-reading-program-7513
END:VEVENT

END:VCALENDAR
