BEGIN:VCALENDAR
VERSION:2.0
PRODID:-//ChamberMaster//Event Calendar 2.0//EN
METHOD:PUBLISH
X-PUBLISHED-TTL:P3D
REFRESH-INTERVAL:P3D
CALSCALE:GREGORIAN
BEGIN:VEVENT
DTSTART:20191229T000000Z
DTEND:20191228T060000Z
X-MICROSOFT-CDO-ALLDAYEVENT:FALSE
SUMMARY:ACTS Casino Night
DESCRIPTION:
X-ALT-DESC;FMTTYPE=text/html:
LOCATION:
UID:e.2154.9243
SEQUENCE:3
DTSTAMP:20260425T160601Z
URL:https://business.uvalde.org/events/details/acts-casino-night-9243
END:VEVENT

END:VCALENDAR
