BEGIN:VCALENDAR
VERSION:2.0
PRODID:-//ChamberMaster//Event Calendar 2.0//EN
METHOD:PUBLISH
X-PUBLISHED-TTL:P3D
REFRESH-INTERVAL:P3D
CALSCALE:GREGORIAN
BEGIN:VEVENT
DTSTART:20190622T000000Z
DTEND:20190622T010000Z
X-MICROSOFT-CDO-ALLDAYEVENT:FALSE
SUMMARY:Arabian Nights
DESCRIPTION:It's wedding night in the palace of Shahrayar\, the brokenhearted king who vowed to marry a new bride each day only to kill her the next morning. The new Queen Shahrazad should be put to death when the sun rises like all the brides before her\, but she has one gift that could save her- the gift of storytelling.\n\nWith her vivid imagination\, the young Queen cleverly tells her tales in hopes to appease the bitter king and postpone her execution. Will her short stories and folktales be enough to save her life?
X-ALT-DESC;FMTTYPE=text/html:<p style="font-family: proxima-nova\; font-size: 15px\; letter-spacing: 0.30000001192092896px\; line-height: 1.6em\; margin: 0px 0px 24px\; word-wrap: break-word\; caret-color: rgb(68\, 68\, 68)\; color: rgb(68\, 68\, 68)\; white-space: pre-wrap\;">It&rsquo\;s wedding night in the palace of Shahrayar\, the brokenhearted king who vowed to marry a new bride each day only to kill her the next morning. The new Queen Shahrazad should be put to death when the sun rises like all the brides before her\, but she has one gift that could save her- the gift of storytelling.</p>\n\n<p style="font-family: proxima-nova\; font-size: 15px\; letter-spacing: 0.30000001192092896px\; line-height: 1.6em\; margin: 24px 0px\; word-wrap: break-word\; caret-color: rgb(68\, 68\, 68)\; color: rgb(68\, 68\, 68)\; white-space: pre-wrap\;">With her vivid imagination\, the young Queen cleverly tells her tales in hopes to appease the bitter king and postpone her execution. Will her short stories and folktales be enough to save her life?</p>\n
LOCATION:Auditions for You-POP are on March 29th (4-6pm) & 30th (10am- noon). The performance will be June 21st-22nd and rehearsals start June 3rd. Ages 8-18 are welcome to try-out. For more information\, call (830)278-4184.
UID:e.2154.7493
SEQUENCE:3
DTSTAMP:20260426T021409Z
URL:https://business.uvalde.org/events/details/arabian-nights-7493
END:VEVENT

END:VCALENDAR
