BEGIN:VCALENDAR
VERSION:2.0
PRODID:-//ChamberMaster//Event Calendar 2.0//EN
METHOD:PUBLISH
X-PUBLISHED-TTL:P3D
REFRESH-INTERVAL:P3D
CALSCALE:GREGORIAN
BEGIN:VEVENT
DTSTART:20190718T220000Z
DTEND:20190718T230000Z
X-MICROSOFT-CDO-ALLDAYEVENT:FALSE
SUMMARY:AutoWorld Uvalde Grand Opening
DESCRIPTION:AutoWorld Uvalde Grand Opening Ribbon Cutting
X-ALT-DESC;FMTTYPE=text/html:AutoWorld Uvalde Grand Opening Ribbon Cutting&nbsp\;
LOCATION:AutoWorld Uvalde 2401 E Main Street Uvalde\, Texas 78801
UID:e.2154.8994
SEQUENCE:3
DTSTAMP:20260426T003520Z
URL:https://business.uvalde.org/events/details/autoworld-uvalde-grand-opening-8994
END:VEVENT

END:VCALENDAR
