BEGIN:VCALENDAR
VERSION:2.0
PRODID:-//ChamberMaster//Event Calendar 2.0//EN
METHOD:PUBLISH
X-PUBLISHED-TTL:P3D
REFRESH-INTERVAL:P3D
CALSCALE:GREGORIAN
BEGIN:VEVENT
DTSTART:20200226T003000Z
DTEND:20200226T023000Z
X-MICROSOFT-CDO-ALLDAYEVENT:FALSE
SUMMARY:Balyeat Family Country Gospel Concert
DESCRIPTION:The Balyeat Family is an award winning Bluegrass and Country Gospel group that are all members of one family. They travel the country performing and spreading the Gospel message of joy and salvation through song\, artwork and sharing their story of inspiration.
X-ALT-DESC;FMTTYPE=text/html:The Balyeat Family is an award winning Bluegrass and Country Gospel group that are all members of one family. They travel the country performing and spreading the Gospel message of joy and salvation through song\, artwork and sharing their story of inspiration.
LOCATION:Join us at Trinity Lutheran Church 762 N Getty for this evening of free family fun.
UID:e.2154.9263
SEQUENCE:3
DTSTAMP:20260425T123214Z
URL:https://business.uvalde.org/events/details/balyeat-family-country-gospel-concert-9263
END:VEVENT

END:VCALENDAR
