BEGIN:VCALENDAR
VERSION:2.0
PRODID:-//ChamberMaster//Event Calendar 2.0//EN
METHOD:PUBLISH
X-PUBLISHED-TTL:P3D
REFRESH-INTERVAL:P3D
CALSCALE:GREGORIAN
BEGIN:VEVENT
DTSTART;VALUE=DATE:20191005
DTEND;VALUE=DATE:20191006
TRANSP:TRANSPARENT
X-MICROSOFT-CDO-ALLDAYEVENT:TRUE
SUMMARY:Bark in the Park
DESCRIPTION:Humane Society Fundraiser
X-ALT-DESC;FMTTYPE=text/html:Humane Society Fundraiser<br />\n&nbsp\;
LOCATION:Uvalde Memorial Park
UID:e.2154.9160
SEQUENCE:3
DTSTAMP:20260425T191339Z
URL:https://business.uvalde.org/events/details/bark-in-the-park-9160
END:VEVENT

END:VCALENDAR
