BEGIN:VCALENDAR
VERSION:2.0
PRODID:-//ChamberMaster//Event Calendar 2.0//EN
METHOD:PUBLISH
X-PUBLISHED-TTL:P3D
REFRESH-INTERVAL:P3D
CALSCALE:GREGORIAN
BEGIN:VEVENT
DTSTART:20190711T130000Z
DTEND:20190711T170000Z
X-MICROSOFT-CDO-ALLDAYEVENT:FALSE
SUMMARY:Basic Alert Training
DESCRIPTION:Students will learn how law enforcement activates alert resources for missing persons using available local\, regional\, and state resources through a combination of instruction\, videos\, and exercises.
X-ALT-DESC;FMTTYPE=text/html:Students will learn how law enforcement activates alert resources for missing persons using available local\, regional\, and state resources through a combination of instruction\, videos\, and exercises.
LOCATION:SWT Junior College - Uvalde Campus Building E Matthews Student Center's Bluebonnet Room 2401 Garner Field Road Uvalde\, Texas 78801
UID:e.2154.7511
SEQUENCE:3
DTSTAMP:20260426T003133Z
URL:https://business.uvalde.org/events/details/basic-alert-training-7511
END:VEVENT

END:VCALENDAR
