BEGIN:VCALENDAR
VERSION:2.0
PRODID:-//ChamberMaster//Event Calendar 2.0//EN
METHOD:PUBLISH
X-PUBLISHED-TTL:P3D
REFRESH-INTERVAL:P3D
CALSCALE:GREGORIAN
BEGIN:VEVENT
DTSTART:20220820T160000Z
DTEND:20220820T203000Z
X-MICROSOFT-CDO-ALLDAYEVENT:FALSE
SUMMARY:Beeswax Candle Making at the Briscoe-Garner Museum
DESCRIPTION:Vice President John Nance Garner was very proud of Uvalde and what our location has to offer. He was especially proud of the guajillo honey produced in our area. This was the very honey that earned Uvalde the title of the Honey Capital of the World. He often sent honey to colleagues in Washington DC. To celebrate his love of honey\, we are holding candle making classes\, using beeswax. We will provide all of the supplies\, including scents and dyes. The classes will be free and you can take your creations home that day! While waiting for the wax to set\, you can tour the museum and see copies of thank you letters Mr. Garner received from former First Ladies\, thanking him for pecans and honey. Light refreshments will be provided as well.
X-ALT-DESC;FMTTYPE=text/html:Vice President John Nance Garner was very proud of Uvalde and what our location has to offer. He was especially proud of the guajillo honey produced in our area. This was the very honey that earned Uvalde the title of the Honey Capital of the World. He often sent honey to colleagues in Washington DC. To celebrate his love of honey\, we are holding candle making classes\, using beeswax. We will provide all of the supplies\, including scents and dyes. The classes will be free and you can take your creations home that day! While waiting for the wax to set\, you can tour the museum and see copies of thank you letters Mr. Garner received from former First Ladies\, thanking him for pecans and honey. Light refreshments will be provided as well.
LOCATION:Briscoe-Garner Museum 333 N Park St Uvalde\, TX 78801
UID:e.2154.9834
SEQUENCE:3
DTSTAMP:20260423T112052Z
URL:https://business.uvalde.org/events/details/beeswax-candle-making-at-the-briscoe-garner-museum-08-20-2022-9834
END:VEVENT

END:VCALENDAR
