BEGIN:VCALENDAR
VERSION:2.0
PRODID:-//ChamberMaster//Event Calendar 2.0//EN
METHOD:PUBLISH
X-PUBLISHED-TTL:P3D
REFRESH-INTERVAL:P3D
CALSCALE:GREGORIAN
BEGIN:VEVENT
DTSTART:20220528T160000Z
DTEND:20220528T173000Z
X-MICROSOFT-CDO-ALLDAYEVENT:FALSE
SUMMARY:Beeswax Candle Making at the Briscoe Garner Museum
DESCRIPTION:We will be hosting beeswax candle making classes at the Briscoe-Garner Museum. These free classes will be held at 11am and 2pm. All materials will be provided.
X-ALT-DESC;FMTTYPE=text/html:We will be hosting beeswax candle making classes at the Briscoe-Garner Museum. These free classes will be held at 11am and 2pm. All materials will be provided.
LOCATION:Briscoe-Garner Museum 333 N Park St Uvalde\, TX
UID:e.2154.9831
SEQUENCE:3
DTSTAMP:20260423T163023Z
URL:https://business.uvalde.org/events/details/beeswax-candle-making-at-the-briscoe-garner-museum-9831
END:VEVENT

END:VCALENDAR
