BEGIN:VCALENDAR
VERSION:2.0
PRODID:-//ChamberMaster//Event Calendar 2.0//EN
METHOD:PUBLISH
X-PUBLISHED-TTL:P3D
REFRESH-INTERVAL:P3D
CALSCALE:GREGORIAN
BEGIN:VEVENT
DTSTART:20190503T130000Z
DTEND:20190503T213000Z
X-MICROSOFT-CDO-ALLDAYEVENT:FALSE
SUMMARY:Behavioral Health Symposium
DESCRIPTION:KEYNOTE SPEAKER: Hey\, We Can Do This! Getting it Right on Mental Health Tara Rolstad Tara is an advocate\, author\, and speaker who left a career as a nonprofit executive to help raise nieces who lived with severe mental health illnesses. Tara is a dynamic speaker who gets real about mental health because she believes it effects everyone  with a brain. Tara is direct\, funny\, and passionate.
X-ALT-DESC;FMTTYPE=text/html:KEYNOTE SPEAKER: Hey\, We Can Do This! Getting it Right on Mental Health Tara Rolstad Tara is an advocate\, author\, and speaker who left a career as a nonprofit executive to help raise nieces who lived with severe mental health illnesses. Tara is a dynamic speaker who gets real about mental health because she believes it effects everyone&hellip\; with a brain. Tara is direct\, funny\, and passionate.
LOCATION:SSGT. Willie De Leon Civic Center
UID:e.2154.7490
SEQUENCE:3
DTSTAMP:20260426T035442Z
URL:https://business.uvalde.org/events/details/behavioral-health-symposium-7490
END:VEVENT

END:VCALENDAR
