BEGIN:VCALENDAR
VERSION:2.0
PRODID:-//ChamberMaster//Event Calendar 2.0//EN
METHOD:PUBLISH
X-PUBLISHED-TTL:P3D
REFRESH-INTERVAL:P3D
CALSCALE:GREGORIAN
BEGIN:VEVENT
DTSTART:20190713T160000Z
DTEND:20190713T180000Z
X-MICROSOFT-CDO-ALLDAYEVENT:FALSE
SUMMARY:Bug Safari #3
DESCRIPTION:Activity kits are available for the first lucky thirty students to register. Designed for middle school youth in out-of -school time\, SAC features hands-on science kits that spark curiosity and inspire wonder for the natural world. Through games\, projects\, and exciting investigations\, youth in SA Cexplorenature\, contribute to authentic science research\, and design creative strategies to protect the planet. Those interested should call or text Deyanira Salazar at 830/279-7632 for further information and to enroll.
X-ALT-DESC;FMTTYPE=text/html:<div class="page" title="Page 1">\n<div class="section" style="background-color: rgb(255\, 255\, 255)\;">\n<div class="layoutArea">\n<div class="column">\n<p><span style="font-size: 12pt\; font-family: TimesNewRomanPSMT\; color: rgb(29\, 34\, 40)\;">Activity kits are available for the first lucky thirty students to register. Designed for middle school youth in out-of -school time\, SAC features hands-on science kits that spark curiosity and inspire wonder for the natural world. Through&nbsp\;games\, projects\, and exciting investigations\, youth in SA Cexplorenature\, contribute to authentic science research\, and design creative strategies to protect the planet</span><span style="font-size: 12pt\; font-family: TimesNewRomanPSMT\;">. Those&nbsp\;interested should call or text Deyanira Salazar at 830/279-7632 for further information and to enroll.</span></p>\n</div>\n</div>\n</div>\n</div>\n
LOCATION:El Progreso Memorial Library
UID:e.2154.7517
SEQUENCE:3
DTSTAMP:20260426T003239Z
URL:https://business.uvalde.org/events/details/bug-safari-3-7517
END:VEVENT

END:VCALENDAR
