BEGIN:VCALENDAR
VERSION:2.0
PRODID:-//ChamberMaster//Event Calendar 2.0//EN
METHOD:PUBLISH
X-PUBLISHED-TTL:P3D
REFRESH-INTERVAL:P3D
CALSCALE:GREGORIAN
BEGIN:VEVENT
DTSTART:20190608T160000Z
DTEND:20190608T180000Z
X-MICROSOFT-CDO-ALLDAYEVENT:FALSE
SUMMARY:Bug Safari
DESCRIPTION:Bug Safari number 1 will be offered as a Science Action Club for 30 young people age 9-14 in El Progreso Meeting Room on Saturday\, June 8th from 11 a.m.   1 p.m. Activity kits are available for the first lucky thirty students to register. Designed for middle school youth in out-of -school time\, SAC features hands-on science kits that spark curiosity and inspire wonder for the naturalworld. Throughgames\,projects\,andexcitinginvestigations\,youthinSACexplorenature\, contribute to authentic science research\, and design creative strategies to protect the planet. Those interested should call or text Deyanira Salazar at 830-279-7632 for further information and to enroll.
X-ALT-DESC;FMTTYPE=text/html:<div class="page" title="Page 1">\n<div class="section" style="background-color: rgb(255\, 255\, 255)\;">\n<div class="layoutArea">\n<div class="column">\n<p><span style="font-size: 16pt\; font-family: TimesNewRomanPS\; font-weight: 700\; color: rgb(255\, 0\, 0)\;">Bug Safari&nbsp\;</span><span style="font-size: 12pt\; font-family: TimesNewRomanPSMT\;">number&nbsp\;</span><span style="font-size: 12pt\; font-family: TimesNewRomanPS\; font-weight: 700\;">1&nbsp\;</span><span style="font-size: 12pt\; font-family: TimesNewRomanPSMT\;">will be offered as a Science Action Club for 30 young people age 9-14 in El Progreso Meeting Room on Saturday\, June 8</span><span style="font-size: 8pt\; font-family: TimesNewRomanPSMT\; vertical-align: 5pt\;">th&nbsp\;</span><span style="font-size: 12pt\; font-family: TimesNewRomanPSMT\;">from 11 a.m.&nbsp\;</span><span style="font-size: 12pt\; font-family: TimesNewRomanPSMT\;">&ndash\;&nbsp\;</span><span style="font-size: 12pt\; font-family: TimesNewRomanPSMT\;">1 p.m.&nbsp\;</span><span style="font-size: 12pt\; font-family: TimesNewRomanPSMT\; color: rgb(29\, 34\, 40)\;">Activity kits are available for the first lucky thirty students to register. Designed for middle school youth in out-of -school time\, SAC features hands-on science kits that spark curiosity and inspire wonder for the naturalworld. Throughgames\,projects\,andexcitinginvestigations\,youthinSACexplorenature\, contribute to authentic science research\, and design creative strategies to protect the planet</span><span style="font-size: 12pt\; font-family: TimesNewRomanPSMT\;">. Those&nbsp\;interested should call or text Deyanira Salazar at 830-279-7632 for further information and to enroll.</span></p>\n</div>\n</div>\n</div>\n</div>\n
LOCATION:El Progreso Memorial Library\, Meeting Room on Saturday June 8th from 11am- 1pm
UID:e.2154.7515
SEQUENCE:3
DTSTAMP:20260426T021235Z
URL:https://business.uvalde.org/events/details/bug-safari-7515
END:VEVENT

END:VCALENDAR
