BEGIN:VCALENDAR
VERSION:2.0
PRODID:-//ChamberMaster//Event Calendar 2.0//EN
METHOD:PUBLISH
X-PUBLISHED-TTL:P3D
REFRESH-INTERVAL:P3D
CALSCALE:GREGORIAN
BEGIN:VEVENT
DTSTART:20190503T000000Z
DTEND:20190505T030000Z
X-MICROSOFT-CDO-ALLDAYEVENT:FALSE
SUMMARY:Cactus Jack 8th Annual PBR Real Time Pain Relief Velocity Tour!
DESCRIPTION:The mission of the Uvalde Cactus Jack Foundation is to enhance the community by investing in our youth through the support of the Positive Behavior Interventions and Supports program at UCISD. By providing incentives to reward positive behaviors\, the foundation works to create an environment that is conducive to successful learning opportunities for students so they can meet the educational needs of UCISD and become productive members of the community.\n\n\n\n\n\nUvalde Cactus Jack Foundation was based on the premise that our future is our youth\, and we must do everything we can to enhance their learning experiences so they will become productive members of our community and society as a whole.  \n\n\n\nTo fund these efforts\, the foundation has an annual professional bull riding event that is held in May of each year. This is the major fundraising event for the foundation. Money raised at the bull riding goes to fund various school programs that benefit students and teachers.
X-ALT-DESC;FMTTYPE=text/html:<span style="color: rgb(29\, 33\, 41)\; font-family: 'San Francisco'\, -apple-system\, BlinkMacSystemFont\, '.SFNSText-Regular'\, sans-serif\; font-size: 14px\; letter-spacing: -0.23999999463558197px\;">The mission of the Uvalde Cactus Jack Foundation is to enhance the community by investing in our youth through the support of the Positive Behavior Interventions and Supports program at&nbsp\;UCISD. By providing incentives to reward positive behaviors\, the foundation works to create an environment that is conducive to successful learning opportunities for students so they can meet the educational needs</span><span class="text_exposed_show" style="display: inline\; font-family: 'San Francisco'\, -apple-system\, BlinkMacSystemFont\, '.SFNSText-Regular'\, sans-serif\; color: rgb(29\, 33\, 41)\; font-size: 14px\; letter-spacing: -0.23999999463558197px\;">&nbsp\;of&nbsp\;UCISD&nbsp\;and become productive members of the community.<br />\n<br />\n<br />\nUvalde Cactus Jack Foundation was based on the premise that our future is our youth\, and we must do everything we can to enhance their learning experiences so they will become productive members of our community and society as a whole.&nbsp\;&nbsp\;<br />\n<br />\nTo fund these efforts\, the foundation has an annual professional bull riding event that is held in May of each year. This is the major fundraising event for the foundation. Money raised at the bull riding goes to fund various school programs that benefit students and teachers.</span>
LOCATION:Uvalde County Fairplex 215 Veterans Lane Uvalde\, Texas 78801
UID:e.2154.1381
SEQUENCE:3
DTSTAMP:20260426T035748Z
URL:https://business.uvalde.org/events/details/cactus-jack-8th-annual-pbr-real-time-pain-relief-velocity-tour-1381
END:VEVENT

END:VCALENDAR
