BEGIN:VCALENDAR
VERSION:2.0
PRODID:-//ChamberMaster//Event Calendar 2.0//EN
METHOD:PUBLISH
X-PUBLISHED-TTL:P3D
REFRESH-INTERVAL:P3D
CALSCALE:GREGORIAN
BEGIN:VEVENT
DTSTART:20190510T203000Z
DTEND:20190511T020000Z
X-MICROSOFT-CDO-ALLDAYEVENT:FALSE
SUMMARY:Carlitos Way GRAND OPENING
DESCRIPTION:Our official grand opening day on 4 square Friday! Will be opening our upstairs venue for the first time with a live performance by Surge! Plenty of complimentary drinks will be provided. Will soon give out tickets because space is limited..
X-ALT-DESC;FMTTYPE=text/html:Our official grand opening day on 4 square Friday! Will be opening our upstairs venue for the first time with a live performance by Surge! Plenty of complimentary drinks will be provided. Will soon give out tickets because space is limited..
LOCATION:Carlitos Way 113 N Getty St Uvalde\, Texas
UID:e.2154.7508
SEQUENCE:3
DTSTAMP:20260426T040357Z
URL:https://business.uvalde.org/events/details/carlitos-way-grand-opening-7508
END:VEVENT

END:VCALENDAR
