BEGIN:VCALENDAR
VERSION:2.0
PRODID:-//ChamberMaster//Event Calendar 2.0//EN
METHOD:PUBLISH
X-PUBLISHED-TTL:P3D
REFRESH-INTERVAL:P3D
CALSCALE:GREGORIAN
BEGIN:VEVENT
DTSTART:20190504T140000Z
DTEND:20190504T183000Z
X-MICROSOFT-CDO-ALLDAYEVENT:FALSE
SUMMARY:Cheerleading Clinic
DESCRIPTION:For grades PK-6th Fundraiser to support Knippa Varsity Cheerleaders. For more information\, contact: rebekah.trevino@knippaisd.net or call 830-934-2176
X-ALT-DESC;FMTTYPE=text/html:For grades PK-6th Fundraiser to support Knippa Varsity Cheerleaders. For more information\, contact: rebekah.trevino@knippaisd.net or call 830-934-2176
LOCATION:Knippa Vulcan Center
UID:e.2154.7507
SEQUENCE:3
DTSTAMP:20260426T040221Z
URL:https://business.uvalde.org/events/details/cheerleading-clinic-7507
END:VEVENT

END:VCALENDAR
