BEGIN:VCALENDAR
VERSION:2.0
PRODID:-//ChamberMaster//Event Calendar 2.0//EN
METHOD:PUBLISH
X-PUBLISHED-TTL:P3D
REFRESH-INTERVAL:P3D
CALSCALE:GREGORIAN
BEGIN:VEVENT
DTSTART:20191214T160000Z
DTEND:20191214T210000Z
X-MICROSOFT-CDO-ALLDAYEVENT:FALSE
SUMMARY:Christmas & Classics Show & Shine
DESCRIPTION:Hosted by Andy's n River Road\n\nA "Show & Shine" style event which encourages classic car enthusiasts to display their cars to the general public. 1 People's Choice Award will be awarded!\n\nSanta will be here between 11-2\n\nFood Trucks\, Craft Vendors\, Live Music\, Kids Activities and so much more!\n\nSponsored by Texas Hill Country River Region
X-ALT-DESC;FMTTYPE=text/html:Hosted by Andy&#39\;s n River Road<br />\nA &quot\;Show &amp\; Shine&quot\; style event which encourages classic car enthusiasts to display their cars to the general public. 1 People&#39\;s Choice Award will be awarded!<br />\nSanta will be here between 11-2<br />\nFood Trucks\, Craft Vendors\, Live Music\, Kids Activities and so much more!<br />\nSponsored by Texas Hill Country River Region
LOCATION:Andy's on River Road
UID:e.2154.9165
SEQUENCE:3
DTSTAMP:20260425T160448Z
URL:https://business.uvalde.org/events/details/christmas-classics-show-shine-9165
END:VEVENT

END:VCALENDAR
