BEGIN:VCALENDAR
VERSION:2.0
PRODID:-//ChamberMaster//Event Calendar 2.0//EN
METHOD:PUBLISH
X-PUBLISHED-TTL:P3D
REFRESH-INTERVAL:P3D
CALSCALE:GREGORIAN
BEGIN:VEVENT
DTSTART:20220126T000000Z
DTEND:20220126T013000Z
X-MICROSOFT-CDO-ALLDAYEVENT:FALSE
SUMMARY:City of Uvalde City Council Meeting
DESCRIPTION:City Council meetings are held every 2nd and 4th Tuesday at 6:00pm in the second floor of City Hall at 101 East Main Street.
X-ALT-DESC;FMTTYPE=text/html:City Council meetings are held every 2nd and 4th Tuesday at 6:00pm in the second floor of City Hall at 101 East Main Street.
LOCATION:
UID:e.2154.9421
SEQUENCE:3
DTSTAMP:20260423T230513Z
URL:https://business.uvalde.org/events/details/city-of-uvalde-city-council-meeting-01-25-2022-9421
END:VEVENT

END:VCALENDAR
