BEGIN:VCALENDAR
VERSION:2.0
PRODID:-//ChamberMaster//Event Calendar 2.0//EN
METHOD:PUBLISH
X-PUBLISHED-TTL:P3D
REFRESH-INTERVAL:P3D
CALSCALE:GREGORIAN
BEGIN:VEVENT
DTSTART:20190801T180000Z
DTEND:20190801T200000Z
X-MICROSOFT-CDO-ALLDAYEVENT:FALSE
SUMMARY:Community Health Development Information
DESCRIPTION:Community Health Developmentpersonnel will be in the foyer every Thursday in July from 1   3 p.m. to answer questions and explain their services and programs.
X-ALT-DESC;FMTTYPE=text/html:<strong><span style="color:#26282a\;"><span style="font-family:times new roman\;"><span style="font-size:12pt\;">Community Health Development</span></span></span></strong><span style="color:#26282a\;"><span style="font-family:times new roman\;"><span style="font-size:12pt\;">personnel will be in the foyer&nbsp\;<u>every Thursday in July from 1 &ndash\; 3 p.m.</u>&nbsp\;to answer questions and explain their services and programs.</span></span></span>
LOCATION:El Progreso Memorial Library
UID:e.2154.9141
SEQUENCE:3
DTSTAMP:20260425T224549Z
URL:https://business.uvalde.org/events/details/community-health-development-information-08-01-2019-9141
END:VEVENT

END:VCALENDAR
