BEGIN:VCALENDAR
VERSION:2.0
PRODID:-//ChamberMaster//Event Calendar 2.0//EN
METHOD:PUBLISH
X-PUBLISHED-TTL:P3D
REFRESH-INTERVAL:P3D
CALSCALE:GREGORIAN
BEGIN:VEVENT
DTSTART:20201003T170000Z
DTEND:20201004T000000Z
X-MICROSOFT-CDO-ALLDAYEVENT:FALSE
SUMMARY:Corks & Kegs Queso Fest
DESCRIPTION:Get ready Uvalde\, Texas! Save the date!! Saturday October 3rd\, 2020 the Corks Kegs Queso Fest is BACK! The best Queso Fest in South Texas is right around the corner Check back soon for queso team and vendor applications!
X-ALT-DESC;FMTTYPE=text/html:Get ready Uvalde\, Texas! Save the date!! Saturday October 3rd\, 2020 the Corks Kegs Queso Fest is BACK! The best Queso Fest in South Texas is right around the corner Check back soon for queso team and vendor applications!&nbsp\;
LOCATION:Uvalde Memorial Park
UID:e.2154.9257
SEQUENCE:3
DTSTAMP:20260424T224857Z
URL:https://business.uvalde.org/events/details/corks-kegs-queso-fest-9257
END:VEVENT

END:VCALENDAR
