BEGIN:VCALENDAR
VERSION:2.0
PRODID:-//ChamberMaster//Event Calendar 2.0//EN
METHOD:PUBLISH
X-PUBLISHED-TTL:P3D
REFRESH-INTERVAL:P3D
CALSCALE:GREGORIAN
BEGIN:VEVENT
DTSTART;VALUE=DATE:20190531
DTEND;VALUE=DATE:20190602
TRANSP:TRANSPARENT
X-MICROSOFT-CDO-ALLDAYEVENT:TRUE
SUMMARY:Dealer Demo Days
DESCRIPTION:Ag Equipment Inc's Dealer Demo Days!\n\nOPEN HOUSE EVENT\n\nDon't miss our 2nd Annual Event Friday\, May 31st and Saturday June 1st\n\nStop by Ag. Equipment Inc Friday and Saturday for a great party! Check out exclusive comparison demos from our Kabota Sales staff and receive event-only discounts while enjoying great food and drinks. Take home free apparel and product giveaways\, such as hats\, jackets\, and coolers as well.\n\n\n\nFeel free to contact us for more event information (830) 278-1117 or sales@agequipmentinc.com\n\n\n\nWe hope to see you there!
X-ALT-DESC;FMTTYPE=text/html:Ag Equipment Inc&#39\;s Dealer Demo Days!<br />\nOPEN HOUSE EVENT<br />\nDon&#39\;t miss our 2nd Annual Event Friday\, May 31st and Saturday June 1st<br />\nStop by Ag. Equipment Inc Friday and Saturday for a great party! Check out exclusive comparison demos from our Kabota Sales staff and receive event-only discounts while enjoying great food and drinks. Take home free apparel and product giveaways\, such as hats\, jackets\, and coolers as well.<br />\n<br />\nFeel free to contact us for more event information (830) 278-1117 or sales@agequipmentinc.com<br />\n<br />\nWe hope to see you there!
LOCATION:4420 HWY 90 East\, Uvalde\, Texas 78801
UID:e.2154.7922
SEQUENCE:3
DTSTAMP:20260426T022919Z
URL:https://business.uvalde.org/events/details/dealer-demo-days-7922
END:VEVENT

END:VCALENDAR
