BEGIN:VCALENDAR
VERSION:2.0
PRODID:-//ChamberMaster//Event Calendar 2.0//EN
METHOD:PUBLISH
X-PUBLISHED-TTL:P3D
REFRESH-INTERVAL:P3D
CALSCALE:GREGORIAN
BEGIN:VEVENT
DTSTART:20190510T130000Z
DTEND:20190510T180000Z
X-MICROSOFT-CDO-ALLDAYEVENT:FALSE
SUMMARY:FREE Diabetes Class
DESCRIPTION:For more information: \n\n830-278-3251 ext 1520
X-ALT-DESC;FMTTYPE=text/html:For more information:&nbsp\;<br />\n830-278-3251 ext 1520
LOCATION:UMH Holmgreen Conference Room
UID:e.2154.7491
SEQUENCE:3
DTSTAMP:20260426T040211Z
URL:https://business.uvalde.org/events/details/free-diabetes-class-7491
END:VEVENT

END:VCALENDAR
