BEGIN:VCALENDAR
VERSION:2.0
PRODID:-//ChamberMaster//Event Calendar 2.0//EN
METHOD:PUBLISH
X-PUBLISHED-TTL:P3D
REFRESH-INTERVAL:P3D
CALSCALE:GREGORIAN
BEGIN:VEVENT
DTSTART:20191108T140000Z
DTEND:20191108T190000Z
X-MICROSOFT-CDO-ALLDAYEVENT:FALSE
SUMMARY:FREE Diabetes Class
DESCRIPTION:For more information: 830.278.3251 ext 1520
X-ALT-DESC;FMTTYPE=text/html:For more information: 830.278.3251 ext 1520
LOCATION:UMH Holmgreen Coference Room
UID:e.2154.7498
SEQUENCE:3
DTSTAMP:20260425T172013Z
URL:https://business.uvalde.org/events/details/free-diabetes-class-7498
END:VEVENT

END:VCALENDAR
