BEGIN:VCALENDAR
VERSION:2.0
PRODID:-//ChamberMaster//Event Calendar 2.0//EN
METHOD:PUBLISH
X-PUBLISHED-TTL:P3D
REFRESH-INTERVAL:P3D
CALSCALE:GREGORIAN
BEGIN:VEVENT
DTSTART:20190606T170000Z
DTEND:20190606T200000Z
X-MICROSOFT-CDO-ALLDAYEVENT:FALSE
SUMMARY:Free Legal Clinics
DESCRIPTION:Free Legal Clinics for those qualified will be on\n\nThursday\, June 6th from noon until 3 p.m. by Skype hookup with lawyers in Austin at the Texas Legal Center. Sign up online or at the library front desk for an appointment.
X-ALT-DESC;FMTTYPE=text/html:<div class="page" title="Page 1">\n<div class="section" style="background-color: rgb(255\, 255\, 255)\;">\n<div class="layoutArea">\n<div class="column">\n<p><span style="font-size: 12pt\; font-family: TimesNewRomanPSMT\;">Free&nbsp\;</span><span style="font-size: 12pt\; font-family: TimesNewRomanPS\; font-weight: 700\;">Legal Clinics&nbsp\;</span><span style="font-size: 12pt\; font-family: TimesNewRomanPSMT\;">for those qualified will be on<br />\nThursday\, June 6</span><span style="font-size: 8pt\; font-family: TimesNewRomanPSMT\; vertical-align: 5pt\;">th&nbsp\;</span><span style="font-size: 12pt\; font-family: TimesNewRomanPSMT\;">from noon until 3 p.m. by Skype hookup with lawyers in Austin at the Texas Legal Center. Sign up online or at the library front desk for an appointment.</span></p>\n</div>\n</div>\n</div>\n</div>\n
LOCATION:El Progreso Memorial Library
UID:e.2154.7514
SEQUENCE:3
DTSTAMP:20260426T023041Z
URL:https://business.uvalde.org/events/details/free-legal-clinics-7514
END:VEVENT

END:VCALENDAR
