BEGIN:VCALENDAR
VERSION:2.0
PRODID:-//ChamberMaster//Event Calendar 2.0//EN
METHOD:PUBLISH
X-PUBLISHED-TTL:P3D
REFRESH-INTERVAL:P3D
CALSCALE:GREGORIAN
BEGIN:VEVENT
DTSTART:20191019T180000Z
DTEND:20191019T190000Z
X-MICROSOFT-CDO-ALLDAYEVENT:FALSE
SUMMARY:Grand Re-Opening Texas Hill Country River Region
DESCRIPTION:Ribbon Cutting and Grand Re-Opening for Texas Hill Country River Region!
X-ALT-DESC;FMTTYPE=text/html:Ribbon Cutting and Grand Re-Opening for Texas Hill Country River Region!
LOCATION:21563 TX HWY 127\, Concan\, Texas 78838
UID:e.2154.9168
SEQUENCE:3
DTSTAMP:20260425T191739Z
URL:https://business.uvalde.org/events/details/grand-re-opening-texas-hill-country-river-region-9168
END:VEVENT

END:VCALENDAR
