BEGIN:VCALENDAR
VERSION:2.0
PRODID:-//ChamberMaster//Event Calendar 2.0//EN
METHOD:PUBLISH
X-PUBLISHED-TTL:P3D
REFRESH-INTERVAL:P3D
CALSCALE:GREGORIAN
BEGIN:VEVENT
DTSTART:20190717T163000Z
DTEND:20190717T180000Z
X-MICROSOFT-CDO-ALLDAYEVENT:FALSE
SUMMARY:Jody Robbins Magic & Balloons
DESCRIPTION:Sponsored by Eternal Life Ministries\, Jody Robbins Magic & Balloons of San Antonio will be on hand to do a program and free balloon sculptures for children from 11:30am - 1pm
X-ALT-DESC;FMTTYPE=text/html:Sponsored by Eternal Life Ministries\, Jody Robbins Magic &amp\; Balloons of San Antonio will be on hand to do a program and free balloon sculptures for children from 11:30am - 1pm
LOCATION:El Progreso Memorial Library
UID:e.2154.9135
SEQUENCE:3
DTSTAMP:20260426T003406Z
URL:https://business.uvalde.org/events/details/jody-robbins-magic-balloons-9135
END:VEVENT

END:VCALENDAR
