BEGIN:VCALENDAR
VERSION:2.0
PRODID:-//ChamberMaster//Event Calendar 2.0//EN
METHOD:PUBLISH
X-PUBLISHED-TTL:P3D
REFRESH-INTERVAL:P3D
CALSCALE:GREGORIAN
BEGIN:VEVENT
DTSTART:20221119T170000Z
DTEND:20221119T200000Z
X-MICROSOFT-CDO-ALLDAYEVENT:FALSE
SUMMARY:John Nance Garner Birthday Celebration
DESCRIPTION:Join us as we celebrate Vice President John Nance Garner's birthday with an open house. We will have refreshments and a collection of Mr. Garner's gavels on display. The Sahawe Indian Dancers will also be joining us for a performance.
X-ALT-DESC;FMTTYPE=text/html:Join us as we celebrate Vice President John Nance Garner&#39\;s birthday with an open house. We will have refreshments and a collection of Mr. Garner&#39\;s gavels on display. The Sahawe Indian Dancers will also be joining us for a performance.
LOCATION:Briscoe-Garner Museum 333 N Park St. Uvalde\, TX 78801
UID:e.2154.9839
SEQUENCE:3
DTSTAMP:20260423T064336Z
URL:https://business.uvalde.org/events/details/john-nance-garner-birthday-celebration-9839
END:VEVENT

END:VCALENDAR
