BEGIN:VCALENDAR
VERSION:2.0
PRODID:-//ChamberMaster//Event Calendar 2.0//EN
METHOD:PUBLISH
X-PUBLISHED-TTL:P3D
REFRESH-INTERVAL:P3D
CALSCALE:GREGORIAN
BEGIN:VEVENT
DTSTART:20191112T170000Z
DTEND:20191112T200000Z
X-MICROSOFT-CDO-ALLDAYEVENT:FALSE
SUMMARY:Lantana Realty Law Enforcement & First Responders Lunch
DESCRIPTION:All Law Enforcement & First Responders are invited for a grab and go lunch provided by Lantana Realty!\n\nWe will be serving Brisket Sandwiches\, chips\, and a cold drink.\n\nThis is our way of letting you know how much we appreciate the sacrifices you make each and every day you put on your uniform.
X-ALT-DESC;FMTTYPE=text/html:All Law Enforcement &amp\; First Responders are invited for a grab and go lunch provided by Lantana Realty!<br />\nWe will be serving Brisket Sandwiches\, chips\, and a cold drink.<br />\nThis is our way of letting you know how much we appreciate the sacrifices you make each and every day you put on your uniform.
LOCATION:Lantana Realty 131 East Nopal Uvalde\, Texas 78801
UID:e.2154.9232
SEQUENCE:3
DTSTAMP:20260425T173503Z
URL:https://business.uvalde.org/events/details/lantana-realty-law-enforcement-first-responders-lunch-9232
END:VEVENT

END:VCALENDAR
