BEGIN:VCALENDAR
VERSION:2.0
PRODID:-//ChamberMaster//Event Calendar 2.0//EN
METHOD:PUBLISH
X-PUBLISHED-TTL:P3D
REFRESH-INTERVAL:P3D
CALSCALE:GREGORIAN
BEGIN:VEVENT
DTSTART:20190629T150000Z
DTEND:20190629T180000Z
X-MICROSOFT-CDO-ALLDAYEVENT:FALSE
SUMMARY:Lemonade Stand Fundraiser
DESCRIPTION:Come visit us!\n\nAll Proceeds Benefit The American Legion Post 479- Uvalde
X-ALT-DESC;FMTTYPE=text/html:Come visit us!<br />\nAll Proceeds Benefit The American Legion Post 479- Uvalde
LOCATION:Uvalde Walmart
UID:e.2154.8993
SEQUENCE:3
DTSTAMP:20260426T021342Z
URL:https://business.uvalde.org/events/details/lemonade-stand-fundraiser-8993
END:VEVENT

END:VCALENDAR
