BEGIN:VCALENDAR
VERSION:2.0
PRODID:-//ChamberMaster//Event Calendar 2.0//EN
METHOD:PUBLISH
X-PUBLISHED-TTL:P3D
REFRESH-INTERVAL:P3D
CALSCALE:GREGORIAN
BEGIN:VEVENT
DTSTART:20190619T170000Z
DTEND:20190619T180000Z
X-MICROSOFT-CDO-ALLDAYEVENT:FALSE
SUMMARY:Lunch & Learn
DESCRIPTION:Workforce Healthcare Benefits \n\nEvent is open to all active Chamber Members and their employees\n\nPlease RSVP before EOB on Monday\, June 17th to: info@uvalde.org or  (830) 278-3361
X-ALT-DESC;FMTTYPE=text/html:Workforce Healthcare Benefits&nbsp\;<br />\nEvent is open to all active Chamber Members and their employees<br />\nPlease RSVP before EOB on Monday\, June 17th to: info@uvalde.org or &nbsp\;(830) 278-3361
LOCATION:Willie De Leon Civic Center Cactus Room 300 East Main\, Uvalde\, Texas 78801
UID:e.2154.7921
SEQUENCE:3
DTSTAMP:20260426T021159Z
URL:https://business.uvalde.org/events/details/lunch-learn-7921
END:VEVENT

END:VCALENDAR
