BEGIN:VCALENDAR
VERSION:2.0
PRODID:-//ChamberMaster//Event Calendar 2.0//EN
METHOD:PUBLISH
X-PUBLISHED-TTL:P3D
REFRESH-INTERVAL:P3D
CALSCALE:GREGORIAN
BEGIN:VEVENT
DTSTART:20191211T180000Z
DTEND:20191211T190000Z
X-MICROSOFT-CDO-ALLDAYEVENT:FALSE
SUMMARY:Monthly Board of Directors Meeting
DESCRIPTION:Closed meeting to the Board of Directors.\n\nFor inquiries about presentations/adding of agenda items\, please contact the Chamber Office.
X-ALT-DESC;FMTTYPE=text/html:Closed meeting to the Board of Directors.<br />\nFor inquiries about presentations/adding of agenda items\, please contact the Chamber Office.
LOCATION:Conference Room of the Uvalde Area Chamber of Commerce
UID:e.2154.6430
SEQUENCE:3
DTSTAMP:20260425T160944Z
URL:https://business.uvalde.org/events/details/monthly-board-of-directors-meeting-12-11-2019-6430
END:VEVENT

END:VCALENDAR
