BEGIN:VCALENDAR
VERSION:2.0
PRODID:-//ChamberMaster//Event Calendar 2.0//EN
METHOD:PUBLISH
X-PUBLISHED-TTL:P3D
REFRESH-INTERVAL:P3D
CALSCALE:GREGORIAN
BEGIN:VEVENT
DTSTART:20190529T220000Z
DTEND:20190529T233000Z
X-MICROSOFT-CDO-ALLDAYEVENT:FALSE
SUMMARY:MRGWS OPEN HOUSE
DESCRIPTION:Tours * Light Refreshments * Service Booths Join us to learn what Middle Rio Grande Workforce Solutions can do for YOU and your business! No RSVP Required\, Open Door
X-ALT-DESC;FMTTYPE=text/html:Tours * Light Refreshments * Service Booths Join us to learn what Middle Rio Grande Workforce Solutions can do for YOU and your business! No RSVP Required\, Open Door
LOCATION:216 W Main St Uvalde\, Texas 78801
UID:e.2154.7510
SEQUENCE:3
DTSTAMP:20260426T035343Z
URL:https://business.uvalde.org/events/details/mrgws-open-house-7510
END:VEVENT

END:VCALENDAR
