BEGIN:VCALENDAR
VERSION:2.0
PRODID:-//ChamberMaster//Event Calendar 2.0//EN
METHOD:PUBLISH
X-PUBLISHED-TTL:P3D
REFRESH-INTERVAL:P3D
CALSCALE:GREGORIAN
BEGIN:VEVENT
DTSTART:20190720T000000Z
DTEND:20190720T020000Z
X-MICROSOFT-CDO-ALLDAYEVENT:FALSE
SUMMARY:Music on Main
DESCRIPTION:Friday\, July 19thwill bring "Some Enchanted Evening" with Music on Mainfeaturing Barbara Chase\, Andre Cruz\, Vince DiPiazza\, Ben and Rene Ford\, Karl Gager\, Anastacio Gonzales\, Jr.\, Toni Hull\, Greg Knapp\, Nathan LaFrenz\, Jerrie Anne Salvato\, Autumn Wooten and other local singers and musicians with Jim Gerrish on sound.  The enchantment with beautiful music and some Civil War fiddlin' is a fund-raiser for the library. The event if free and open to the public with donatios welcome.
X-ALT-DESC;FMTTYPE=text/html:<u style="caret-color: rgb(0\, 0\, 0)\; color: rgb(0\, 0\, 0)\; font-family: -webkit-standard\;"><span style="font-size: 12pt\; line-height: 17.1200008392334px\; font-family: &quot\;Times New Roman&quot\;\; color: rgb(29\, 34\, 40)\;">Friday\, July 19<sup>th</sup></span></u><span style="font-size: 12pt\; line-height: 17.1200008392334px\; font-family: &quot\;Times New Roman&quot\;\; color: rgb(29\, 34\, 40)\;">will bring &ldquo\;Some Enchanted Evening&rdquo\; with&nbsp\;<b>Music on Main</b>featuring Barbara Chase\, Andre Cruz\, Vince DiPiazza\, Ben and Rene Ford\, Karl Gager\, Anastacio Gonzales\, Jr.\, Toni Hull\, Greg Knapp\, Nathan LaFrenz\, Jerrie Anne Salvato\, Autumn Wooten and other local singers and musicians with Jim Gerrish on sound.&nbsp\;&nbsp\;The enchantment with beautiful music and some Civil War fiddlin&rsquo\; is a fund-raiser for the library.</span><span style="caret-color: rgb(0\, 0\, 0)\; color: rgb(0\, 0\, 0)\; font-size: 12pt\; line-height: 17.1200008392334px\; font-family: &quot\;Times New Roman&quot\;\;">&nbsp\;The event if free and open to the public with donatios welcome.</span>
LOCATION:El Progreso Memorial Library
UID:e.2154.9136
SEQUENCE:3
DTSTAMP:20260426T003310Z
URL:https://business.uvalde.org/events/details/music-on-main-9136
END:VEVENT

END:VCALENDAR
