BEGIN:VCALENDAR
VERSION:2.0
PRODID:-//ChamberMaster//Event Calendar 2.0//EN
METHOD:PUBLISH
X-PUBLISHED-TTL:P3D
REFRESH-INTERVAL:P3D
CALSCALE:GREGORIAN
BEGIN:VEVENT
DTSTART:20190914T183000Z
DTEND:20190914T193000Z
X-MICROSOFT-CDO-ALLDAYEVENT:FALSE
SUMMARY:Music on Main
DESCRIPTION:
X-ALT-DESC;FMTTYPE=text/html:
LOCATION:El Progreso Memorial Library
UID:e.2154.9208
SEQUENCE:3
DTSTAMP:20260425T210324Z
URL:https://business.uvalde.org/events/details/music-on-main-9208
END:VEVENT

END:VCALENDAR
