BEGIN:VCALENDAR
VERSION:2.0
PRODID:-//ChamberMaster//Event Calendar 2.0//EN
METHOD:PUBLISH
X-PUBLISHED-TTL:P3D
REFRESH-INTERVAL:P3D
CALSCALE:GREGORIAN
BEGIN:VEVENT
DTSTART:20220910T170000Z
DTEND:20220910T200000Z
X-MICROSOFT-CDO-ALLDAYEVENT:FALSE
SUMMARY:Music on the Porch at the Briscoe-Garner Museum
DESCRIPTION:Vice President John Nance Garner welcomed many presidents\, politicians\, and celebrities to his front porch. Come spend an afternoon with us\, enjoying local music being performed on that same porch. We will have crafts for the kids and light refreshments. Seating is limited\, so bring your lawn chair\, sit back\, and relax.
X-ALT-DESC;FMTTYPE=text/html:Vice President John Nance Garner welcomed many presidents\, politicians\, and celebrities to his front porch. Come spend an afternoon with us\, enjoying local music being performed on that same porch. We will have crafts for the kids and light refreshments. Seating is limited\, so bring your lawn chair\, sit back\, and relax.
LOCATION:Briscoe-Garner Museum 333 N Park St. Uvalde\, TX 78801
UID:e.2154.9835
SEQUENCE:3
DTSTAMP:20260423T100320Z
URL:https://business.uvalde.org/events/details/music-on-the-porch-at-the-briscoe-garner-museum-9835
END:VEVENT

END:VCALENDAR
