BEGIN:VCALENDAR
VERSION:2.0
PRODID:-//ChamberMaster//Event Calendar 2.0//EN
METHOD:PUBLISH
X-PUBLISHED-TTL:P3D
REFRESH-INTERVAL:P3D
CALSCALE:GREGORIAN
BEGIN:VEVENT
DTSTART:20200113T233000Z
DTEND:20200114T003000Z
X-MICROSOFT-CDO-ALLDAYEVENT:FALSE
SUMMARY:New Master Naturalist Chapter Meeting
DESCRIPTION:Texas Master Naturalist is a statewide program of volunteers trained in conservation. We are starting a Uvalde/Medina County chapter and this is our second meeting. We will be discussing potential partners\, projects\, and the training process. All are welcome to attend\, even if you were not at the first meeting.
X-ALT-DESC;FMTTYPE=text/html:Texas Master Naturalist is a statewide program of volunteers trained in conservation. We are starting a Uvalde/Medina County chapter and this is our second meeting. We will be discussing potential partners\, projects\, and the training process. All are welcome to attend\, even if you were not at the first meeting.
LOCATION:AgriLife Research & Extension Center at Uvalde\, Auditorium 1619 Garner Field Road
UID:e.2154.9256
SEQUENCE:3
DTSTAMP:20260425T141900Z
URL:https://business.uvalde.org/events/details/new-master-naturalist-chapter-meeting-9256
END:VEVENT

END:VCALENDAR
