BEGIN:VCALENDAR
VERSION:2.0
PRODID:-//ChamberMaster//Event Calendar 2.0//EN
METHOD:PUBLISH
X-PUBLISHED-TTL:P3D
REFRESH-INTERVAL:P3D
CALSCALE:GREGORIAN
BEGIN:VEVENT
DTSTART:20191217T190000Z
DTEND:20191217T210000Z
X-MICROSOFT-CDO-ALLDAYEVENT:FALSE
SUMMARY:New Uvalde County Visitor Center Grand Opening & Xmas Open House
DESCRIPTION:Join us for the Ribbon Cutting and Christmas Open House of the BRAND NEW Uvalde County Visitors Center!
X-ALT-DESC;FMTTYPE=text/html:Join us for the Ribbon Cutting and Christmas Open House of the BRAND NEW Uvalde County Visitors Center!
LOCATION:21563 HWY 127 Concan\, Texas 78838
UID:e.2154.9241
SEQUENCE:3
DTSTAMP:20260425T161013Z
URL:https://business.uvalde.org/events/details/new-uvalde-county-visitor-center-grand-opening-xmas-open-house-9241
END:VEVENT

END:VCALENDAR
