BEGIN:VCALENDAR
VERSION:2.0
PRODID:-//ChamberMaster//Event Calendar 2.0//EN
METHOD:PUBLISH
X-PUBLISHED-TTL:P3D
REFRESH-INTERVAL:P3D
CALSCALE:GREGORIAN
BEGIN:VEVENT
DTSTART:20190601T160000Z
DTEND:20190601T170000Z
X-MICROSOFT-CDO-ALLDAYEVENT:FALSE
SUMMARY:Opera Chats
DESCRIPTION:Opera Chats will meet Saturday\, June 1st at 11 a.m. in the Doughty Room. The fourth and final "Ring of the Nibelung" series by Richard Wagner\, G tterd mmerung (Twilight of the Gods)\, will be presented on Saturday\, June 1st.
X-ALT-DESC;FMTTYPE=text/html:Opera Chats will meet Saturday\, June 1st at 11 a.m. in the Doughty Room. The fourth and final &ldquo\;Ring of the Nibelung&rdquo\; series by Richard Wagner\, G&ouml\;tterd&auml\;mmerung (Twilight of the Gods)\, will be presented on Saturday\, June 1st.
LOCATION:El Progreso Memorial Library
UID:e.2154.7512
SEQUENCE:3
DTSTAMP:20260426T021409Z
URL:https://business.uvalde.org/events/details/opera-chats-06-01-2019-7512
END:VEVENT

END:VCALENDAR
