BEGIN:VCALENDAR
VERSION:2.0
PRODID:-//ChamberMaster//Event Calendar 2.0//EN
METHOD:PUBLISH
X-PUBLISHED-TTL:P3D
REFRESH-INTERVAL:P3D
CALSCALE:GREGORIAN
BEGIN:VEVENT
DTSTART:20190521T150000Z
DTEND:20190521T160000Z
X-MICROSOFT-CDO-ALLDAYEVENT:FALSE
SUMMARY:Premium Cuts Ribbon Cutting and Grand Opening
DESCRIPTION:Come on out to Premium Cuts to help celebrate thier FIRST DAY OF BUSINESS! They will have goodies such as cupcakes and light refreshments for your enjoyment\, AND they will have a $5 off special for haircuts the whole week! (until May 26th).
X-ALT-DESC;FMTTYPE=text/html:Come on out to Premium Cuts to help celebrate thier FIRST DAY OF BUSINESS! They will have goodies such as cupcakes and light refreshments for your enjoyment\, AND they will have a $5 off special for haircuts the whole week! (until May 26th).
LOCATION:317 North Getty Street
UID:e.2154.7509
SEQUENCE:3
DTSTAMP:20260426T035709Z
URL:https://business.uvalde.org/events/details/premium-cuts-ribbon-cutting-and-grand-opening-7509
END:VEVENT

END:VCALENDAR
