BEGIN:VCALENDAR
VERSION:2.0
PRODID:-//ChamberMaster//Event Calendar 2.0//EN
METHOD:PUBLISH
X-PUBLISHED-TTL:P3D
REFRESH-INTERVAL:P3D
CALSCALE:GREGORIAN
BEGIN:VEVENT
DTSTART:20200201T153000Z
DTEND:20200201T170000Z
X-MICROSOFT-CDO-ALLDAYEVENT:FALSE
SUMMARY:Pure Fitness Yoga
DESCRIPTION:Please join us for a great stretch/yoga session at pure fitness gym. This class will be lead by yoga instructor Ariel Larson.
X-ALT-DESC;FMTTYPE=text/html:Please join us for a great stretch/yoga session at pure fitness gym. This class will be lead by yoga instructor Ariel Larson.
LOCATION:pure fitness gym 105 E. South street Uvalde texas
UID:e.2154.9258
SEQUENCE:3
DTSTAMP:20260425T123059Z
URL:https://business.uvalde.org/events/details/pure-fitness-yoga-9258
END:VEVENT

END:VCALENDAR
