BEGIN:VCALENDAR
VERSION:2.0
PRODID:-//ChamberMaster//Event Calendar 2.0//EN
METHOD:PUBLISH
X-PUBLISHED-TTL:P3D
REFRESH-INTERVAL:P3D
CALSCALE:GREGORIAN
BEGIN:VEVENT
DTSTART:20191012T190000Z
DTEND:20191012T213000Z
X-MICROSOFT-CDO-ALLDAYEVENT:FALSE
SUMMARY:Redefining Wellness with GiaWellness
DESCRIPTION:Team SW Texas is honored to welcome special guest Lynda Cormier-Hanser.\n\nLearn how we are redefining wellness for you to live a happier\, healthier life. As the world is changing\, our definition of health and wellness needs to evolve as well.
X-ALT-DESC;FMTTYPE=text/html:Team SW Texas is honored to welcome special guest Lynda Cormier-Hanser.<br />\nLearn how we are redefining wellness for you to live a happier\, healthier life. As the world is changing\, our definition of health and wellness needs to evolve as well.
LOCATION:First Presbyterian Church of Uvalde 300 N Getty St Uvalde\, Texas 78801
UID:e.2154.9213
SEQUENCE:3
DTSTAMP:20260425T191403Z
URL:https://business.uvalde.org/events/details/redefining-wellness-with-giawellness-9213
END:VEVENT

END:VCALENDAR
