BEGIN:VCALENDAR
VERSION:2.0
PRODID:-//ChamberMaster//Event Calendar 2.0//EN
METHOD:PUBLISH
X-PUBLISHED-TTL:P3D
REFRESH-INTERVAL:P3D
CALSCALE:GREGORIAN
BEGIN:VEVENT
DTSTART:20190511T150000Z
DTEND:20190512T030000Z
X-MICROSOFT-CDO-ALLDAYEVENT:FALSE
SUMMARY:Relay For Life
DESCRIPTION:You are invited to the 2019 Uvalde Relay for Life which will be held May 11th from 10:00 a.m. - 10:00 p.m. We are bringing back the event to the community and hope to see everyone there. Lets make this a relay to remember.
X-ALT-DESC;FMTTYPE=text/html:<span style="caret-color: rgb(29\, 33\, 41)\; color: rgb(29\, 33\, 41)\; font-family: system-ui\, -apple-system\, BlinkMacSystemFont\, &quot\;.SFNSText-Regular&quot\;\, sans-serif\; font-size: 14px\; white-space: pre-wrap\;">You are invited to the 2019 Uvalde Relay for Life which will be held May 11th from 10:00 a.m. - 10:00 p.m. We are bringing back the event to the community and hope to see everyone there. Lets make this a relay to remember.</span>
LOCATION:
UID:e.2154.7492
SEQUENCE:3
DTSTAMP:20260426T040211Z
URL:https://business.uvalde.org/events/details/relay-for-life-7492
END:VEVENT

END:VCALENDAR
