BEGIN:VCALENDAR
VERSION:2.0
PRODID:-//ChamberMaster//Event Calendar 2.0//EN
METHOD:PUBLISH
X-PUBLISHED-TTL:P3D
REFRESH-INTERVAL:P3D
CALSCALE:GREGORIAN
BEGIN:VEVENT
DTSTART:20191213T160000Z
DTEND:20191213T170000Z
X-MICROSOFT-CDO-ALLDAYEVENT:FALSE
SUMMARY:Riata Realty & D.G. Smyth Ribbon Cutting
DESCRIPTION:Join us as we hold a Ribbon Cutting for Riata Realty & D.G. Smyth Surveyors during their Open House.
X-ALT-DESC;FMTTYPE=text/html:Join us as we hold a Ribbon Cutting for Riata Realty &amp\; D.G. Smyth Surveyors during their Open House.
LOCATION:235 N Getty Uvalde\, Texas 78801
UID:e.2154.9240
SEQUENCE:3
DTSTAMP:20260425T160808Z
URL:https://business.uvalde.org/events/details/riata-realty-d-g-smyth-ribbon-cutting-9240
END:VEVENT

END:VCALENDAR
