BEGIN:VCALENDAR
VERSION:2.0
PRODID:-//ChamberMaster//Event Calendar 2.0//EN
METHOD:PUBLISH
X-PUBLISHED-TTL:P3D
REFRESH-INTERVAL:P3D
CALSCALE:GREGORIAN
BEGIN:VEVENT
DTSTART:20190611T020000Z
DTEND:20190615T043000Z
X-MICROSOFT-CDO-ALLDAYEVENT:FALSE
SUMMARY:Rolling River Rampage
DESCRIPTION:Rolling River Rampage Vacation Bible School\n\nAges Kindergarten - 6th grade
X-ALT-DESC;FMTTYPE=text/html:Rolling River Rampage Vacation Bible School<br />\nAges Kindergarten - 6th grade
LOCATION:Emmanuel Lutheran Church Knippa\, Texas 78870
UID:e.2154.8434
SEQUENCE:3
DTSTAMP:20260426T021343Z
URL:https://business.uvalde.org/events/details/rolling-river-rampage-8434
END:VEVENT

END:VCALENDAR
