BEGIN:VCALENDAR
VERSION:2.0
PRODID:-//ChamberMaster//Event Calendar 2.0//EN
METHOD:PUBLISH
X-PUBLISHED-TTL:P3D
REFRESH-INTERVAL:P3D
CALSCALE:GREGORIAN
BEGIN:VEVENT
DTSTART:20190706T000000Z
DTEND:20190706T010000Z
X-MICROSOFT-CDO-ALLDAYEVENT:FALSE
SUMMARY:Sahawe Summer Ceremonials
DESCRIPTION:
X-ALT-DESC;FMTTYPE=text/html:
LOCATION:Sahawe Outdoor Theater @7pm
UID:e.2154.7494
SEQUENCE:3
DTSTAMP:20260426T003406Z
URL:https://business.uvalde.org/events/details/sahawe-summer-ceremonials-7494
END:VEVENT

END:VCALENDAR
