BEGIN:VCALENDAR
VERSION:2.0
PRODID:-//ChamberMaster//Event Calendar 2.0//EN
METHOD:PUBLISH
X-PUBLISHED-TTL:P3D
REFRESH-INTERVAL:P3D
CALSCALE:GREGORIAN
BEGIN:VEVENT
DTSTART:20190621T011500Z
DTEND:20190621T020000Z
X-MICROSOFT-CDO-ALLDAYEVENT:FALSE
SUMMARY:Star Gazing Party
DESCRIPTION:Take a summer night and come to HHAC for an evening of star gazing and a constellation tour. Bring bug spray\, snacks\, lawn chairs or blankets and join Micheal Robinson as he takes you on a tour of the night sky. Inside presentation begins at 8:15pm then we will go outside for the highlight of the evening. Fun for the entire family.\n\n\n\nDonations are accepted.\n\nIn case of rain or cloudy\, event will be rescheduled.
X-ALT-DESC;FMTTYPE=text/html:Take a summer night and come to HHAC for an evening of star gazing and a constellation tour. Bring bug spray\, snacks\, lawn chairs or blankets and join Micheal Robinson as he takes you on a tour of the night sky. Inside presentation begins at 8:15pm then we will go outside for the highlight of the evening. Fun for the entire family.<br />\n<br />\nDonations are accepted.<br />\nIn case of rain or cloudy\, event will be rescheduled.
LOCATION:Herby Ham Activity Center
UID:e.2154.8438
SEQUENCE:3
DTSTAMP:20260426T021530Z
URL:https://business.uvalde.org/events/details/star-gazing-party-8438
END:VEVENT

END:VCALENDAR
