BEGIN:VCALENDAR
VERSION:2.0
PRODID:-//ChamberMaster//Event Calendar 2.0//EN
METHOD:PUBLISH
X-PUBLISHED-TTL:P3D
REFRESH-INTERVAL:P3D
CALSCALE:GREGORIAN
BEGIN:VEVENT
DTSTART:20190720T150000Z
DTEND:20190720T190000Z
X-MICROSOFT-CDO-ALLDAYEVENT:FALSE
SUMMARY:Steps to Literacy
DESCRIPTION:El Progreso Memorial Library is partnering with Eternal Life Royal Ministries for "Steps to Literacy"  a shoe giveaway which will take place on Saturday\, July 20\, form 10 a.m.   2 p.m. at the library.  To participate\, preschoolers and school age children must check out and read four books from the Library between July 1stand 19th.  Reading logs must be turned in on or before 4 p.m. on July 19th.  Children must be present at the drawing to receive a new pair of tennis shoes
X-ALT-DESC;FMTTYPE=text/html:<span style="font-size: 11pt\; line-height: 15.693333625793457px\; font-family: Calibri\; color: rgb(29\, 34\, 40)\;">El Progreso Memorial Library is partnering with Eternal Life Royal Ministries for&nbsp\;<b>&ldquo\;Steps to Literacy&rdquo\;</b>&ndash\; a shoe giveaway which will take place on&nbsp\;<u>Saturday\, July 20</u>\, form 10 a.m. &ndash\; 2 p.m. at the library.&nbsp\;&nbsp\;To participate\, preschoolers and school age children must check out and read four books from the Library between July 1<sup>st</sup>and 19th.&nbsp\;&nbsp\;Reading logs must be turned in on or before 4 p.m. on July 19<sup>th</sup>.&nbsp\;&nbsp\;Children must be present at the drawing to receive a new pair of tennis shoes</span>
LOCATION:El Progreso Memorial Library
UID:e.2154.9137
SEQUENCE:3
DTSTAMP:20260426T003310Z
URL:https://business.uvalde.org/events/details/steps-to-literacy-9137
END:VEVENT

END:VCALENDAR
